BEGIN:VCALENDAR
VERSION:2.0
PRODID:-//eventon.com NONSGML v1.0//EN
CALSCALE:GREGORIAN
METHOD:PUBLISH
BEGIN:VEVENT
UID:69ea300d7142b
DTSTAMP:20260423T144325Z
DTSTART:20211107
DTEND:20211108
LOCATION:
SUMMARY:Cranberry Thanksgiving
DESCRIPTION:Cranberry Thanksgiving\nhttps://chalkpastel.com/events/cranberr
 y-thanksgiving/
URL:https://chalkpastel.com/events/cranberry-thanksgiving/
END:VEVENT
END:VCALENDAR