BEGIN:VCALENDAR
VERSION:2.0
PRODID:-//eventon.com NONSGML v1.0//EN
CALSCALE:GREGORIAN
METHOD:PUBLISH
BEGIN:VEVENT
UID:69e9ccfcac510
DTSTAMP:20260423T074044Z
DTSTART:20210217T003300Z
DTEND:20210217T003300Z
LOCATION:
SUMMARY:George Washington
DESCRIPTION:George Washington\nhttps://chalkpastel.com/events/george-washin
 gton/
URL:https://chalkpastel.com/events/george-washington/
END:VEVENT
END:VCALENDAR