BEGIN:VCALENDAR
VERSION:2.0
PRODID:-//eventon.com NONSGML v1.0//EN
CALSCALE:GREGORIAN
METHOD:PUBLISH
BEGIN:VEVENT
UID:69e6e49533da4
DTSTAMP:20260421T024437Z
DTSTART:20210430
DTEND:20210501
LOCATION:
SUMMARY:Mini Moments for Moms
DESCRIPTION:Mini Moments for Moms\nhttps://chalkpastel.com/events/mini-mome
 nts-for-moms/
URL:https://chalkpastel.com/events/mini-moments-for-moms/
END:VEVENT
END:VCALENDAR