BEGIN:VCALENDAR
VERSION:2.0
PRODID:-//eventon.com NONSGML v1.0//EN
CALSCALE:GREGORIAN
METHOD:PUBLISH
BEGIN:VEVENT
UID:69e6b1f0a13d8
DTSTAMP:20260420T230832Z
DTSTART:20211021
DTEND:20211022
LOCATION:
SUMMARY:Van Gogh
DESCRIPTION:Van Gogh\nhttps://chalkpastel.com/events/van-gogh/
URL:https://chalkpastel.com/events/van-gogh/
END:VEVENT
END:VCALENDAR