BEGIN:VCALENDAR
VERSION:2.0
PRODID:-//eventon.com NONSGML v1.0//EN
CALSCALE:GREGORIAN
METHOD:PUBLISH
BEGIN:VEVENT
UID:69e7a00c12565
DTSTAMP:20260421T160428Z
DTSTART:20230421
DTEND:20230422
LOCATION:
SUMMARY:Queen Elizabeth II Birthday
DESCRIPTION:Queen Elizabeth II Birthday\nhttps://chalkpastel.com/events/que
 en-elizabeth-ii-birthday/var/ri-1.l-L1
URL:https://chalkpastel.com/events/queen-elizabeth-ii-birthday/var/ri-1.l-L1
END:VEVENT
END:VCALENDAR